BEGIN:VCALENDAR
VERSION:2.0
PRODID:-//Contratero//ES
CALSCALE:GREGORIAN
METHOD:PUBLISH
BEGIN:VEVENT
UID:AM 32/2025@contratero.es
DTSTAMP:20260421T201854Z
DTSTART:20251104T235959
DTEND:20251105T005959
SUMMARY:Cierre: Suministro de Plataforma de voto online en modalid
DESCRIPTION:Suministro de Plataforma de voto online en modalidad de suscripción online\\n\\nOrganismo: Rectorado de la Universidad Nacional de Educación a Distancia\\n\\nVer en Contratero: https://contratero.es/contracts/AM 32/2025
URL:https://contratero.es/contracts/AM 32/2025
STATUS:CONFIRMED
BEGIN:VALARM
TRIGGER:-P1D
ACTION:DISPLAY
DESCRIPTION:Recordatorio: Suministro de Plataforma de vo
END:VALARM
END:VEVENT
END:VCALENDAR